BEGIN:VCALENDAR
VERSION:2.0
PRODID:-//NAAAHR, Inc. Atlanta Chapter - ECPv6.15.20//NONSGML v1.0//EN
CALSCALE:GREGORIAN
METHOD:PUBLISH
X-WR-CALNAME:NAAAHR, Inc. Atlanta Chapter
X-ORIGINAL-URL:https://naaahratlanta.org
X-WR-CALDESC:Events for NAAAHR, Inc. Atlanta Chapter
REFRESH-INTERVAL;VALUE=DURATION:PT1H
X-Robots-Tag:noindex
X-PUBLISHED-TTL:PT1H
BEGIN:VTIMEZONE
TZID:UTC
BEGIN:STANDARD
TZOFFSETFROM:+0000
TZOFFSETTO:+0000
TZNAME:UTC
DTSTART:20240101T000000
END:STANDARD
END:VTIMEZONE
BEGIN:VEVENT
DTSTART;TZID=UTC:20250831T080000
DTEND;TZID=UTC:20260310T170000
DTSTAMP:20260421T121134
CREATED:20250623T145601Z
LAST-MODIFIED:20250623T145601Z
UID:471-1756627200-1773162000@naaahratlanta.org
SUMMARY:Stay in the know: Click the link below for all future events
DESCRIPTION:Love0  Share   Tweet   Share   Pin
URL:https://naaahratlanta.org/event/stay-in-the-know/
END:VEVENT
END:VCALENDAR